BEGIN:VCALENDAR
VERSION:2.0
PRODID:-//Bangor Hockey Club - ECPv6.1.3//NONSGML v1.0//EN
CALSCALE:GREGORIAN
METHOD:PUBLISH
X-WR-CALNAME:Bangor Hockey Club
X-ORIGINAL-URL:https://bangorhockeyclub.com
X-WR-CALDESC:Events for Bangor Hockey Club
REFRESH-INTERVAL;VALUE=DURATION:PT1H
X-Robots-Tag:noindex
X-PUBLISHED-TTL:PT1H
BEGIN:VTIMEZONE
TZID:Europe/Paris
BEGIN:DAYLIGHT
TZOFFSETFROM:+0100
TZOFFSETTO:+0200
TZNAME:CEST
DTSTART:20190331T010000
END:DAYLIGHT
BEGIN:STANDARD
TZOFFSETFROM:+0200
TZOFFSETTO:+0100
TZNAME:CET
DTSTART:20191027T010000
END:STANDARD
END:VTIMEZONE
BEGIN:VEVENT
DTSTART;TZID=Europe/Paris:20190414T080000
DTEND;TZID=Europe/Paris:20190414T170000
DTSTAMP:20260423T121031
CREATED:20181106T115610Z
LAST-MODIFIED:20181106T115709Z
UID:3270-1555228800-1555261200@bangorhockeyclub.com
SUMMARY:U13 Ulster Hockey Finals Day (Plate in the morning\, Cup in the afternoon)
DESCRIPTION:8 Aside All Ulster Tournament with Plate and Cup Finals
URL:https://bangorhockeyclub.com/event/2u13-ulster-hockey-finals-day-plate-in-the-morning-cup-in-the-afternoon/
LOCATION:Civil Service Playball\, Northern Ireland Civil Service Sports Association\, Belfast\, DOWN\, BT4 3TA\, United Kingdom
ORGANIZER;CN="Ulster%20Hockey":MAILTO:admin@ulsterhockey.com
END:VEVENT
BEGIN:VEVENT
DTSTART;TZID=Europe/Paris:20190512T100000
DTEND;TZID=Europe/Paris:20190512T170000
DTSTAMP:20260423T121031
CREATED:20190125T114350Z
LAST-MODIFIED:20190125T114410Z
UID:3296-1557655200-1557680400@bangorhockeyclub.com
SUMMARY:Bangor LHC Junior Club Day
DESCRIPTION:The 2nd annual Bangor LHC Junior Club Day 2019. Inter club Tournament followed by BBQ down at BYC. \nIts a big event so all volunteers most welcome
URL:https://bangorhockeyclub.com/event/bangor-lhc-junior-club-day/
LOCATION:Bangor Aurora
ORGANIZER;CN="Bangor%20LHC%20Juniors":MAILTO:blhcjuniors@gmail.com
END:VEVENT
END:VCALENDAR